BEGIN:VCALENDAR
VERSION:2.0
PRODID:-//tifanfare.com - ECPv4.7.4//NONSGML v1.0//EN
CALSCALE:GREGORIAN
METHOD:PUBLISH
X-WR-CALNAME:tifanfare.com
X-ORIGINAL-URL:https://www.tifanfare.com
X-WR-CALDESC:Évènements pour tifanfare.com
BEGIN:VEVENT
DTSTART;TZID=Europe/Paris:20150614T110000
DTEND;TZID=Europe/Paris:20150614T140000
DTSTAMP:20260421T092244
CREATED:20171113T141550Z
LAST-MODIFIED:20171113T141550Z
UID:704-1434279600-1434290400@www.tifanfare.com
SUMMARY:Payzac(07):Foire de l'association "Agribioardechoise"
DESCRIPTION:
URL:https://www.tifanfare.com/details_date/payzac07foire-de-lassociation-agribioardechoise/
CATEGORIES:Prestations
END:VEVENT
END:VCALENDAR